BEGIN:VCALENDAR
VERSION:2.0
PRODID:-//wp-events-plugin.com//7.2.3.1//EN
BEGIN:VEVENT
UID:16@greencresthoa.org
DTSTART;TZID=America/Denver:20260113T190000
DTEND;TZID=America/Denver:20260113T190000
DTSTAMP:20260109T191026Z
URL:https://greencresthoa.org/events/hoa-meeting-tuesday/
SUMMARY:HOA Meeting Tuesday
DESCRIPTION:
ATTACH;FMTTYPE=image/jpeg:https://greencresthoa.org/wp-content/uploads/202
 6/01/board-meeting.png
CATEGORIES:Board Meeting
END:VEVENT
BEGIN:VTIMEZONE
TZID:America/Denver
X-LIC-LOCATION:America/Denver
BEGIN:STANDARD
DTSTART:20251102T010000
TZOFFSETFROM:-0600
TZOFFSETTO:-0700
TZNAME:MST
END:STANDARD
END:VTIMEZONE
END:VCALENDAR