BEGIN:VCALENDAR
VERSION:2.0
PRODID:-//wp-events-plugin.com//7.2.3.1//EN
BEGIN:VEVENT
UID:14@greencresthoa.org
DTSTART;TZID=America/Denver:20230612T080000
DTEND;TZID=America/Denver:20230618T170000
DTSTAMP:20230323T001103Z
URL:https://greencresthoa.org/events/june-firewise-chipping/
SUMMARY:June FireWise Chipping
DESCRIPTION:\n\nPile Guidelines\n\n\n\n\n\nPILES STACKED INCORRECTLY WILL N
 OT BE PICKED UP.\n\n 	Piles must be stacked curbside by 8:00 a.m. Monday m
 orning on your designated chipping block\n 	Please limit pile size to 5’
 x5’x5’. There is no limit as to the number of piles along the curb\n 	
 Piles must be within 5 feet of the roadway\n 	Piles must be stacked neatly
  with cut ends facing the road\n 	Do not tie or band piles\n\nREMEMBER\n\n
  	PILES STACKED INCORRECTLY WILL NOT BE PICKED UP\n 	Addresses not registe
 red WILL NOT BE PICKED UP\n 	Do not combine piles with neighbors or haul i
 n from other neighborhoods\n 	Chipping will occur during the 1-2 weeks fol
 lowing the listed date\n 	Piles will be picked up by the end of the chippi
 ng block\n\nCHIPPING GUIDELINES\n\n\n
END:VEVENT
BEGIN:VTIMEZONE
TZID:America/Denver
X-LIC-LOCATION:America/Denver
BEGIN:DAYLIGHT
DTSTART:20230312T030000
TZOFFSETFROM:-0700
TZOFFSETTO:-0600
TZNAME:MDT
END:DAYLIGHT
END:VTIMEZONE
END:VCALENDAR