BEGIN:VCALENDAR
VERSION:2.0
PRODID:-//wp-events-plugin.com//7.2.3.1//EN
BEGIN:VEVENT
UID:10@greencresthoa.org
DTSTART;TZID=America/Denver:20231109T190000
DTEND;TZID=America/Denver:20231109T200000
DTSTAMP:20230319T141004Z
URL:https://greencresthoa.org/events/monthly-ghoa-board-meeting-2023-11-09
 /
SUMMARY:Monthly GHOA Board Meeting
DESCRIPTION:Meetings are normally on the 2nd Thursday of each month at 7:00
  pm and held in a board members home.\n\nWe encourage participation from a
 ll members of our neighborhood at our Board meetings. As we hold the meeti
 ngs in our homes\, we kindly request that you give us a heads up a few day
 s in advance. This will help us make sure we have enough room to accommoda
 te everyone comfortably. We look forward to seeing you there!\n\nIf you wo
 uld like to come to our next board meeting\, please contact Jeremy Owings 
 at president@greencresthoa.org
CATEGORIES:Board Meeting
END:VEVENT
BEGIN:VTIMEZONE
TZID:America/Denver
X-LIC-LOCATION:America/Denver
BEGIN:STANDARD
DTSTART:20231105T010000
TZOFFSETFROM:-0600
TZOFFSETTO:-0700
TZNAME:MST
END:STANDARD
END:VTIMEZONE
END:VCALENDAR